BEGIN:VCALENDAR
VERSION:2.0
PRODID:-//wp-events-plugin.com//7.2.3.1//EN
TZID:Europe/Berlin
X-WR-TIMEZONE:Europe/Berlin
BEGIN:VEVENT
UID:781@zhinengqigong.de
DTSTART;TZID=Europe/Berlin:20250113T000000
DTEND;TZID=Europe/Berlin:20251128T000000
DTSTAMP:20250929T025622Z
URL:https://zhinengqigong.de/veranstaltungen/ausbildung-taiji-ball-2025/
SUMMARY:Ausbildung Taiji Ball 2025
DESCRIPTION:&nbsp\;\n\nAusbildung Taiji-Ball 2025\n\n“Nei Jin Taiji Ball
 ” - Taiji-Ball mit innerer Kraft - ist eine der neuesten Methoden von Zh
 ineng Qigong.\nDie Taiji-Ball-Übung hat viele Bestandteile. Die Kenntnis 
 dieser Details ist wichtig\, damit man vertiefend praktizieren kann. Um di
 ese wunderbare Methode von Dr. Pang qualitativ hoch vermitteln zu können\
 , bieten wir diese Ausbildung an. Die Ausbildung hat nicht nur das Ziel\, 
 die Methode richtig weitergeben zu können\, sondern ist auch gut für die
  Lösung eigener gesundheitlicher Probleme und für die eigene Weiterentwi
 cklung.\nDie Ausbildung richtet sich an alle\, die vom Taiji-Ball begeiste
 rt sind\, ihn selbst in Kursen unterrichten und einen Weg der persönliche
 n Weiterentwicklung gehen wollen.\n\n\n[caption id="attachment_4402" align
 ="alignright" width="225"] Annette Graf[/caption]\nDauer der Ausbildung: J
 anuar bis November 2025 mit insgesamt 200 UE\nSprache\nEnglish/Deutsch\n\n
 Teilnahmegebühr/Honorar\n1485€ plus einer Prüfungsgebühr von 60€.\n
 Buchung einzelner Module ist möglich.\n\nPreis inkl. der Aufzeichnungen
  entsprechend der Buchung.\n\n50€ Rabatt für die Buchung des gesamten P
 aketes für Mitglieder des Zhineng Qigong Vereins. Bei der Zahlung bitte d
 irekt abziehen.\nUmfang:\n5 online-Kurse mit Lehrer Zhao (Wochenende Sa. &
 amp\; So. 10:00- 13:00 Uhr)\n6 online-Module\, jeweils 4 Wochen mit Ping D
 ietrich-Shi und Annette Graf (Mo.-Fr. 7:30-8:30 Uhr).\n Termine:\n\n\n 	\n
 \n 	1. Modul: 13. Jan. bis 7. Feb.\n 	1. Wochenende mit Lehrer Zhao: 8.-9.
  Feb.\n 	2. Modul: 10. Feb. bis 7. März\n 	2. Wochenende mit Lehrer Zhao:
  26. Apr. &amp\; 24. Mai (zwei Samstage)\n 	3. Modul: 28. Apr. bis 23. Mai
 \n 	3. Wochenende mit Lehrer Zhao: 5.-6. Juli\n 	4. Modul: 7. Juli bis 1. 
 August\n 	4. Wochenende mit Lehrer Zhao: 11./25. Okt.\n 	5. Modul: 20.Okt.
 -14. Nov.\n 	5. Wochenende mit Lehrer Zhao: 6./13. Dez.\n 	6. Modul: 17.No
 v.-12. Dez.\n\n\n\nHier sind die detaillierte Informationen zum Thema jede
 s Modul und Wochenende. Nachdem die Kurse erfolgt sind\, kann man online 
 an einer mündlichen und praktischen Prüfung zum/r Lehrer/in teilnehmen.
CATEGORIES:Ausbildungsseminar,Seminar,Übungsstunden
LOCATION:ZOOM Internet Konferenz\, \, 
X-APPLE-STRUCTURED-LOCATION;VALUE=URI;X-ADDRESS=\, ;X-APPLE-RADIUS=100;X-TI
 TLE=ZOOM Internet Konferenz:geo:0,0
END:VEVENT
BEGIN:VTIMEZONE
TZID:Europe/Berlin
X-LIC-LOCATION:Europe/Berlin
BEGIN:STANDARD
DTSTART:20241027T020000
TZOFFSETFROM:+0200
TZOFFSETTO:+0100
TZNAME:CET
END:STANDARD
BEGIN:DAYLIGHT
DTSTART:20250330T030000
TZOFFSETFROM:+0100
TZOFFSETTO:+0200
TZNAME:CEST
END:DAYLIGHT
BEGIN:STANDARD
DTSTART:20251026T020000
TZOFFSETFROM:+0200
TZOFFSETTO:+0100
TZNAME:CET
END:STANDARD
END:VTIMEZONE
END:VCALENDAR