BEGIN:VCALENDAR
VERSION:2.0
PRODID:-//wp-events-plugin.com//7.2.3.1//EN
TZID:Europe/Berlin
X-WR-TIMEZONE:Europe/Berlin
BEGIN:VEVENT
UID:605@zhinengqigong.de
DTSTART;TZID=Europe/Berlin:20200819T103000
DTEND;TZID=Europe/Berlin:20200819T120000
DTSTAMP:20200910T201343Z
URL:https://zhinengqigong.de/veranstaltungen/mittwochs-qigong-auf-zoom-202
 0-08-19/
SUMMARY:Mittwochs Qigong auf ZOOM
DESCRIPTION:Ping Dietrich-Shi lädt Sie zu einem geplanten Zoom-Meeting ein
 :\nAuf Wunsch machen wir die online-Übungsstunden weiter. Wir üben gemei
 nsam ab 22. Juli mittwochvormittags und donnerstagabends “Qi Anheben &am
 p\; Ausgießen” und anschließend “Drei Zentren verschmelzen” intens
 iv.\n\nZoom-Meeting beitreten\nhttps://us02web.zoom.us/j/88196382697?pwd=L
 1hRa1lWT0VhODVpOUFjb2k5MmJadz09\nMeeting-ID: 881 9638 2697\nPasswort: 3821
 96\n\nWir können damit unseren Beitrag und Unterstützung leisten\, um di
 e Wandlung\, die aktuell auf der Erde und mit den Menschen geschieht\, zu 
 unterstützen – hin zu einer bewussteren Änderung zu einer friedlichere
 n\, liebevolleren Welt und einem Miteinander in Einheit.\n\nLehrerin: Ping
  Dietrich-Shi\n\nWer möchte kann freiwillig einen kleinen Betrag auf folg
 endes Konto überweisen:\nVolksbank Leonberg Strohgäu eG\nKonto Inhaberin
 : Ping Shi-Dietrich\nIBAN: DE94 6039 0300 0123 4940 01
CATEGORIES:Übungsstunden
LOCATION:Taiji- und Qigong-Zentrum\, Hagstraße 31/1\, Eberdingen\, Baden-W
 ürttemberg\, 71735 \, Deutschland
X-APPLE-STRUCTURED-LOCATION;VALUE=URI;X-ADDRESS=Hagstraße 31/1\, Eberdinge
 n\, Baden-Württemberg\, 71735 \, Deutschland;X-APPLE-RADIUS=100;X-TITLE=T
 aiji- und Qigong-Zentrum:geo:0,0
END:VEVENT
BEGIN:VTIMEZONE
TZID:Europe/Berlin
X-LIC-LOCATION:Europe/Berlin
BEGIN:DAYLIGHT
DTSTART:20200329T030000
TZOFFSETFROM:+0100
TZOFFSETTO:+0200
TZNAME:CEST
END:DAYLIGHT
END:VTIMEZONE
END:VCALENDAR